BEGIN:VCALENDAR
VERSION:2.0
PRODID:-//Sabre//Sabre VObject 4.4.1//EN
CALSCALE:GREGORIAN
BEGIN:VTIMEZONE
TZID:Europe/Berlin
TZURL:http://tzurl.org/zoneinfo-outlook/Europe/Berlin
BEGIN:DAYLIGHT
TZNAME:CEST
TZOFFSETFROM:+0100
TZOFFSETTO:+0200
RRULE:FREQ=YEARLY;BYMONTH=3;BYDAY=-1SU
END:DAYLIGHT
BEGIN:STANDARD
TZNAME:CET
TZOFFSETFROM:+0200
TZOFFSETTO:+0100
RRULE:FREQ=YEARLY;BYMONTH=10;BYDAY=-1SU
END:STANDARD
END:VTIMEZONE
BEGIN:VEVENT
UID:sabre-vobject-55ea7ed4-8461-4b0d-92fb-c88dbaf3fd5d
DTSTAMP:20260425T004816Z
SUMMARY:American political culture and the Trump administration
URL;VALUE=URI:https://iir.cz/american-political-culture-and-the-trump-admin
 istration
DESCRIPTION:While US President Donald Trump’s style and approach to forei
 gn policy-making has been unconventional\, it is not inconsistent with Ame
 rican political culture. The Institute of International Relations would li
 ke to cordially invite you to a seminar with with Heidi Hobbs\, Fullbright
  Scholar\, University of Economics\, Prague. Political Science professor\,
  North Carolina State University.
LOCATION:Nerudova 3\, Praha 1
DTSTART;TZID=Europe/Bratislava:20171205T170000
DTEND;TZID=Europe/Bratislava:20171205T190000
END:VEVENT
BEGIN:VALARM
ACTION:DISPLAY
DESCRIPTION:American political culture and the Trump administration
TRIGGER:-P1D
END:VALARM
END:VCALENDAR
