BEGIN:VCALENDAR
VERSION:2.0
PRODID:-//Sabre//Sabre VObject 4.4.1//EN
CALSCALE:GREGORIAN
BEGIN:VTIMEZONE
TZID:Europe/Berlin
TZURL:http://tzurl.org/zoneinfo-outlook/Europe/Berlin
BEGIN:DAYLIGHT
TZNAME:CEST
TZOFFSETFROM:+0100
TZOFFSETTO:+0200
RRULE:FREQ=YEARLY;BYMONTH=3;BYDAY=-1SU
END:DAYLIGHT
BEGIN:STANDARD
TZNAME:CET
TZOFFSETFROM:+0200
TZOFFSETTO:+0100
RRULE:FREQ=YEARLY;BYMONTH=10;BYDAY=-1SU
END:STANDARD
END:VTIMEZONE
BEGIN:VEVENT
UID:sabre-vobject-bbd6d960-0978-4bac-8929-032785ce5eb3
DTSTAMP:20260425T122245Z
SUMMARY:Webinar: Blockchain infrastructures and changes in international la
 wmaking
URL;VALUE=URI:https://iir.cz/blockchain-infrastructures-and-changes-in-inte
 rnational-lawmaking
DESCRIPTION:The Institute of International Relations is happy to invite you
  to a webinar "Blockchain infrastructures and changes in international law
 making" with Gustavo Prieto\, a senior researcher at the Human Rights Cent
 er and the Programme Human Rights in Context at Ghent University. The even
 t is organized by the IIR Centre for International Law and will be hosted 
 by Federica Cristani. On the 20th of October at 3 p.m. CET\, the webinar w
 ill be live-streamed on IIR Facebook page.
LOCATION:IIR Facebook
DTSTART;TZID=Europe/Bratislava:20211020T150000
DTEND;TZID=Europe/Bratislava:20211020T160000
END:VEVENT
BEGIN:VALARM
ACTION:DISPLAY
DESCRIPTION:Webinar: Blockchain infrastructures and changes in internationa
 l lawmaking
TRIGGER:-P1D
END:VALARM
END:VCALENDAR
