BEGIN:VCALENDAR
VERSION:2.0
PRODID:-//Sabre//Sabre VObject 4.4.1//EN
CALSCALE:GREGORIAN
BEGIN:VTIMEZONE
TZID:Europe/Berlin
TZURL:http://tzurl.org/zoneinfo-outlook/Europe/Berlin
BEGIN:DAYLIGHT
TZNAME:CEST
TZOFFSETFROM:+0100
TZOFFSETTO:+0200
RRULE:FREQ=YEARLY;BYMONTH=3;BYDAY=-1SU
END:DAYLIGHT
BEGIN:STANDARD
TZNAME:CET
TZOFFSETFROM:+0200
TZOFFSETTO:+0100
RRULE:FREQ=YEARLY;BYMONTH=10;BYDAY=-1SU
END:STANDARD
END:VTIMEZONE
BEGIN:VEVENT
UID:sabre-vobject-65c68a05-f71f-4195-b51a-682ae09b5776
DTSTAMP:20260424T205236Z
SUMMARY:Dead or dormant? Germany after Ostpolitik
URL;VALUE=URI:https://iir.cz/dead-or-dormant-germany-after-ostpolitik-1
DESCRIPTION:It is our pleasure to invite you to “Dead or dormant? Germany
  after Ostpolitik\,” with Associate Professor Ian Klinke.
LOCATION:Institute of International Relations Prague (Nerudova 257/3\, Prag
 ue 1)
DTSTART;TZID=Europe/Bratislava:20260513T170000
DTEND;TZID=Europe/Bratislava:20260513T190000
END:VEVENT
BEGIN:VALARM
ACTION:DISPLAY
DESCRIPTION:Dead or dormant? Germany after Ostpolitik
TRIGGER:-P1D
END:VALARM
END:VCALENDAR
