BEGIN:VCALENDAR
VERSION:2.0
PRODID:-//Sabre//Sabre VObject 4.4.1//EN
CALSCALE:GREGORIAN
BEGIN:VTIMEZONE
TZID:Europe/Berlin
TZURL:http://tzurl.org/zoneinfo-outlook/Europe/Berlin
BEGIN:DAYLIGHT
TZNAME:CEST
TZOFFSETFROM:+0100
TZOFFSETTO:+0200
RRULE:FREQ=YEARLY;BYMONTH=3;BYDAY=-1SU
END:DAYLIGHT
BEGIN:STANDARD
TZNAME:CET
TZOFFSETFROM:+0200
TZOFFSETTO:+0100
RRULE:FREQ=YEARLY;BYMONTH=10;BYDAY=-1SU
END:STANDARD
END:VTIMEZONE
BEGIN:VEVENT
UID:sabre-vobject-1682bb27-5ff1-4ca5-837f-0d354518fe0a
DTSTAMP:20260424T230003Z
SUMMARY:Debata a promítání: Mezinárodní souvislosti roku 1968: české
  a slovenské perspektivy
URL;VALUE=URI:https://iir.cz/debata-a-promitani-mezinarodni-souvislosti-rok
 u-1968-ceske-a-slovenske-perspektivy
DESCRIPTION:Ústav mezinárodních vztahů ve spolupráci se Slovenským in
 stitutem v Praze Vás srdečně zve na debatu „Mezinárodní souvislost
 i roku 1968: české a slovenské perspektivy\," která se koná ve čtvrt
 ek 30.08.2018 ve Slovenském institutu v Praze\, Nám. Republiky 1037/3\,
  110 00\, Praha 1.
LOCATION:Slovenský institut v Praze\, Nám. Republiky 1037/3\, 110 00\, Pr
 aha 1
DTSTART;TZID=Europe/Bratislava:20180830T173000
DTEND;TZID=Europe/Bratislava:20180830T190000
END:VEVENT
BEGIN:VALARM
ACTION:DISPLAY
DESCRIPTION:Debata a promítání: Mezinárodní souvislosti roku 1968: če
 ské a slovenské perspektivy
TRIGGER:-P1D
END:VALARM
END:VCALENDAR
