BEGIN:VCALENDAR
VERSION:2.0
PRODID:-//Sabre//Sabre VObject 4.4.1//EN
CALSCALE:GREGORIAN
BEGIN:VTIMEZONE
TZID:Europe/Berlin
TZURL:http://tzurl.org/zoneinfo-outlook/Europe/Berlin
BEGIN:DAYLIGHT
TZNAME:CEST
TZOFFSETFROM:+0100
TZOFFSETTO:+0200
RRULE:FREQ=YEARLY;BYMONTH=3;BYDAY=-1SU
END:DAYLIGHT
BEGIN:STANDARD
TZNAME:CET
TZOFFSETFROM:+0200
TZOFFSETTO:+0100
RRULE:FREQ=YEARLY;BYMONTH=10;BYDAY=-1SU
END:STANDARD
END:VTIMEZONE
BEGIN:VEVENT
UID:sabre-vobject-7bec121f-238d-4e2d-a346-7945998055a6
DTSTAMP:20260425T040856Z
SUMMARY:ZMĚNA TERMÍNU: Jedna země a dva systémy: Čína versus Hongkong
  a Macao
URL;VALUE=URI:https://iir.cz/jedna-zeme-a-dva-systemy-cina-versus-hongkong-
 a-macao
DESCRIPTION:Ústav mezinárodních vztahů Vás srdečně zve na předná
 šku a následnou debatu s paní doktorkou Markétou Moore na téma Čína
  versus Hongkong a Macao. Akce se uskuteční 3. března v 16 hodin v Úst
 avu mezinárodních vztahů na adrese Nerudova 3\, Praha 1.
LOCATION:Ústav mezinárodních vztahů\, Nerudova 3\, Praha 1
DTSTART;TZID=Europe/Bratislava:20200303T160000
DTEND;TZID=Europe/Bratislava:20200303T173000
END:VEVENT
BEGIN:VALARM
ACTION:DISPLAY
DESCRIPTION:ZMĚNA TERMÍNU: Jedna země a dva systémy: Čína versus Hong
 kong a Macao
TRIGGER:-P1D
END:VALARM
END:VCALENDAR
