BEGIN:VCALENDAR
VERSION:2.0
PRODID:-//Sabre//Sabre VObject 4.4.1//EN
CALSCALE:GREGORIAN
BEGIN:VTIMEZONE
TZID:Europe/Berlin
TZURL:http://tzurl.org/zoneinfo-outlook/Europe/Berlin
BEGIN:DAYLIGHT
TZNAME:CEST
TZOFFSETFROM:+0100
TZOFFSETTO:+0200
RRULE:FREQ=YEARLY;BYMONTH=3;BYDAY=-1SU
END:DAYLIGHT
BEGIN:STANDARD
TZNAME:CET
TZOFFSETFROM:+0200
TZOFFSETTO:+0100
RRULE:FREQ=YEARLY;BYMONTH=10;BYDAY=-1SU
END:STANDARD
END:VTIMEZONE
BEGIN:VEVENT
UID:sabre-vobject-73082458-1496-49af-bf83-470b0c2bd00e
DTSTAMP:20260426T011749Z
SUMMARY:Prague European Summit 2017
URL;VALUE=URI:https://iir.cz/prague-european-summit-2017-1
DESCRIPTION:Prague European Summit is a platform for strategic dialogue abo
 ut common responses to EU's challenges. It connects public officials\, bus
 iness and NGO representatives\, academics\, and journalists to discuss top
 ics such as EU leadership\, security\, new technologies and digital age\, 
 current economic & foreign policy challenges\, or the impact of various po
 licies and trends on the European society.
LOCATION:Lobkowicz Palace\, Prague Castle
DTSTART;TZID=Europe/Bratislava:20170613T000000
DTEND;TZID=Europe/Bratislava:20170615T000000
END:VEVENT
BEGIN:VALARM
ACTION:DISPLAY
DESCRIPTION:Prague European Summit 2017
TRIGGER:-P1D
END:VALARM
END:VCALENDAR
