BEGIN:VCALENDAR
VERSION:2.0
PRODID:-//Sabre//Sabre VObject 4.4.1//EN
CALSCALE:GREGORIAN
BEGIN:VTIMEZONE
TZID:Europe/Berlin
TZURL:http://tzurl.org/zoneinfo-outlook/Europe/Berlin
BEGIN:DAYLIGHT
TZNAME:CEST
TZOFFSETFROM:+0100
TZOFFSETTO:+0200
RRULE:FREQ=YEARLY;BYMONTH=3;BYDAY=-1SU
END:DAYLIGHT
BEGIN:STANDARD
TZNAME:CET
TZOFFSETFROM:+0200
TZOFFSETTO:+0100
RRULE:FREQ=YEARLY;BYMONTH=10;BYDAY=-1SU
END:STANDARD
END:VTIMEZONE
BEGIN:VEVENT
UID:sabre-vobject-97bcc05d-8461-4b24-ab2e-87b0ec333b2a
DTSTAMP:20260425T041029Z
SUMMARY:The Rise of the Radical Right in Central and Eastern Europe
URL;VALUE=URI:https://iir.cz/the-rise-of-the-radical-right-in-central-and-e
 astern-europe
DESCRIPTION:The Institute of International Relations would like to cordiall
 y invite you to the seminar „The Rise of the Radical Right in Central an
 d Eastern Europe" which will take place on May 17\, 2017 from 18:00\, at 
 The American Center\, Tržiště 13\, Prague 1.
LOCATION:American Center\, Tržiště 13\, Prague 1
DTSTART;TZID=Europe/Bratislava:20170517T180000
DTEND;TZID=Europe/Bratislava:20170517T200000
END:VEVENT
BEGIN:VALARM
ACTION:DISPLAY
DESCRIPTION:The Rise of the Radical Right in Central and Eastern Europe
TRIGGER:-P1D
END:VALARM
END:VCALENDAR
