BEGIN:VCALENDAR
VERSION:2.0
PRODID:-//Sabre//Sabre VObject 4.4.1//EN
CALSCALE:GREGORIAN
BEGIN:VTIMEZONE
TZID:Europe/Berlin
TZURL:http://tzurl.org/zoneinfo-outlook/Europe/Berlin
BEGIN:DAYLIGHT
TZNAME:CEST
TZOFFSETFROM:+0100
TZOFFSETTO:+0200
RRULE:FREQ=YEARLY;BYMONTH=3;BYDAY=-1SU
END:DAYLIGHT
BEGIN:STANDARD
TZNAME:CET
TZOFFSETFROM:+0200
TZOFFSETTO:+0100
RRULE:FREQ=YEARLY;BYMONTH=10;BYDAY=-1SU
END:STANDARD
END:VTIMEZONE
BEGIN:VEVENT
UID:sabre-vobject-cc8f3b34-6720-47dd-94b4-adb5a5136636
DTSTAMP:20260425T202911Z
SUMMARY:EU-TURKIYE RELATIONS IN THE CONTEXT OF RUSSIAN AGGRESSION
URL;VALUE=URI:https://iir.cz/turkey-eu-relations-in-the-context-of-the-war-
 in-ukraine
DESCRIPTION:In cooperation with the Economic Development Foundation of Turk
 iye\, we would like to cordially invite you to a seminar to discuss Turkiy
 e-EU relations under the effects of Russia’s invasion of Ukraine.
LOCATION:Institute of International Relations\, Nerudova 257/3\, Prague
DTSTART;TZID=Europe/Bratislava:20221024T130000
DTEND;TZID=Europe/Bratislava:20221024T164500
END:VEVENT
BEGIN:VALARM
ACTION:DISPLAY
DESCRIPTION:EU-TURKIYE RELATIONS IN THE CONTEXT OF RUSSIAN AGGRESSION
TRIGGER:-P1D
END:VALARM
END:VCALENDAR
